BEGIN:VCALENDAR
VERSION:2.0
PRODID:-//Odyssée Tantra - ECPv6.15.18//NONSGML v1.0//EN
CALSCALE:GREGORIAN
METHOD:PUBLISH
X-WR-CALNAME:Odyssée Tantra
X-ORIGINAL-URL:https://odyssee-tantra.com
X-WR-CALDESC:Évènements pour Odyssée Tantra
REFRESH-INTERVAL;VALUE=DURATION:PT1H
X-Robots-Tag:noindex
X-PUBLISHED-TTL:PT1H
BEGIN:VTIMEZONE
TZID:Europe/Paris
BEGIN:DAYLIGHT
TZOFFSETFROM:+0100
TZOFFSETTO:+0200
TZNAME:CEST
DTSTART:20260329T010000
END:DAYLIGHT
BEGIN:STANDARD
TZOFFSETFROM:+0200
TZOFFSETTO:+0100
TZNAME:CET
DTSTART:20261025T010000
END:STANDARD
BEGIN:DAYLIGHT
TZOFFSETFROM:+0100
TZOFFSETTO:+0200
TZNAME:CEST
DTSTART:20270328T010000
END:DAYLIGHT
BEGIN:STANDARD
TZOFFSETFROM:+0200
TZOFFSETTO:+0100
TZNAME:CET
DTSTART:20271031T010000
END:STANDARD
BEGIN:DAYLIGHT
TZOFFSETFROM:+0100
TZOFFSETTO:+0200
TZNAME:CEST
DTSTART:20280326T010000
END:DAYLIGHT
BEGIN:STANDARD
TZOFFSETFROM:+0200
TZOFFSETTO:+0100
TZNAME:CET
DTSTART:20281029T010000
END:STANDARD
END:VTIMEZONE
BEGIN:VEVENT
DTSTART;TZID=Europe/Paris:20270304T090000
DTEND;TZID=Europe/Paris:20270306T170000
DTSTAMP:20260422T034433
CREATED:20260415T200842Z
LAST-MODIFIED:20260415T201037Z
UID:228881-1804150800-1804352400@odyssee-tantra.com
SUMMARY:Modules 4 « Au coeur de l’intime du Massage Tantrique »
DESCRIPTION:Praticien.ne en « Massages Tantrique et Psycho-émotionnel »\nContenu\n\nL’usage des clefs du tantra : le mouvement (fluidité et rythmique\, massage corps en mouvement)\, la maîtrise du déplacement (puissance et légèreté\, la lenteur\, le positionnement et l’ancrage).\nLe rapport au désir et à son plaisir\, au lien avec l’autre. La juste distance\nLe rapport à l’intime. Le rapport à son corps\, à la nudité de soi.\nLe Cadre de pratique professionnelle. L’Ethique de la pratique. Le positionnement à la clientèle.\nLa pratique supervisée – Techniques du massage Siam et Pratique intuitive du Siam Danse.\n\nDates\nDu jeudi 4 mars au samedi 6 mars 2027 \nInscriptions et renseignements :  Jean-Michel Picazo : aoreade@yahoo.fr ou au 06.15.43.08.18 \n> Plus d’infos sur le cycle de formation Massage Tantrique
URL:https://odyssee-tantra.com/actu/modules-4-au-coeur-de-lintime-du-massage-tantrique/
LOCATION:Salon de Provence\, Salon de Provence\, 13300\, France
CATEGORIES:Formation Massage Tantrique 2026-2027
ATTACH;FMTTYPE=image/jpeg:https://odyssee-tantra.com/wp-content/uploads/2024/04/Accompagnement-massage-tantrique.jpg
END:VEVENT
END:VCALENDAR