BEGIN:VCALENDAR
VERSION:2.0
PRODID:-//Odyssée Tantra - ECPv6.15.18//NONSGML v1.0//EN
CALSCALE:GREGORIAN
METHOD:PUBLISH
X-ORIGINAL-URL:https://odyssee-tantra.com
X-WR-CALDESC:Évènements pour Odyssée Tantra
REFRESH-INTERVAL;VALUE=DURATION:PT1H
X-Robots-Tag:noindex
X-PUBLISHED-TTL:PT1H
BEGIN:VTIMEZONE
TZID:Europe/Paris
BEGIN:DAYLIGHT
TZOFFSETFROM:+0100
TZOFFSETTO:+0200
TZNAME:CEST
DTSTART:20260329T010000
END:DAYLIGHT
BEGIN:STANDARD
TZOFFSETFROM:+0200
TZOFFSETTO:+0100
TZNAME:CET
DTSTART:20261025T010000
END:STANDARD
BEGIN:DAYLIGHT
TZOFFSETFROM:+0100
TZOFFSETTO:+0200
TZNAME:CEST
DTSTART:20270328T010000
END:DAYLIGHT
BEGIN:STANDARD
TZOFFSETFROM:+0200
TZOFFSETTO:+0100
TZNAME:CET
DTSTART:20271031T010000
END:STANDARD
BEGIN:DAYLIGHT
TZOFFSETFROM:+0100
TZOFFSETTO:+0200
TZNAME:CEST
DTSTART:20280326T010000
END:DAYLIGHT
BEGIN:STANDARD
TZOFFSETFROM:+0200
TZOFFSETTO:+0100
TZNAME:CET
DTSTART:20281029T010000
END:STANDARD
END:VTIMEZONE
BEGIN:VEVENT
DTSTART;TZID=Europe/Paris:20270107T080000
DTEND;TZID=Europe/Paris:20270109T170000
DTSTAMP:20260422T000904
CREATED:20260415T201503Z
LAST-MODIFIED:20260415T201654Z
UID:228888-1799308800-1799514000@odyssee-tantra.com
SUMMARY:Module 3 « La maîtrise du Massage Tantrique Traditionnel »
DESCRIPTION:Contenu\n\nL’usage des clefs du tantra : le mouvement (la qualité du déplacement\, du positionnement).\nLes techniques d’approfondissement : le massage en mouvement\, les notions de fluidité (passage en rupture d’un mouvement à un autre\, temps de suspension\, de vide\, entre deux mouvements)\, les mobilisations des parties du corps.\nL’approche du massage tantrique par les 7 chakras : attributs et fonctionnalités des 7 chakras\, kundalini et énergie sexuelle\,…\nLa connexion énergétique. L’ouverture du coeur. L’intimité.\nLa pratique supervisée – Techniques du massage tantrique traditionnel.\n\nDates\nDu jeudi 7 janvier au samedi 9 janvier 2027 \nInscriptions et renseignements :  Jean-Michel Picazo : aoreade@yahoo.fr ou au 06.15.43.08.18 \n> Plus d’infos sur le cycle de formation Massage Tantrique
URL:https://odyssee-tantra.com/actu/module-3-la-maitrise-du-massage-tantrique-traditionnel-janvier-2027/
LOCATION:Salon de Provence\, Salon de Provence\, 13300\, France
CATEGORIES:Formation Massage Tantrique 2026-2027
ATTACH;FMTTYPE=image/jpeg:https://odyssee-tantra.com/wp-content/uploads/2023/05/formation-massages-tantriques-Module3MT.jpg
END:VEVENT
END:VCALENDAR