BEGIN:VCALENDAR
VERSION:2.0
PRODID:-//Odyssée Tantra - ECPv6.15.18//NONSGML v1.0//EN
CALSCALE:GREGORIAN
METHOD:PUBLISH
X-ORIGINAL-URL:https://odyssee-tantra.com
X-WR-CALDESC:Évènements pour Odyssée Tantra
REFRESH-INTERVAL;VALUE=DURATION:PT1H
X-Robots-Tag:noindex
X-PUBLISHED-TTL:PT1H
BEGIN:VTIMEZONE
TZID:Europe/Paris
BEGIN:DAYLIGHT
TZOFFSETFROM:+0100
TZOFFSETTO:+0200
TZNAME:CEST
DTSTART:20240331T010000
END:DAYLIGHT
BEGIN:STANDARD
TZOFFSETFROM:+0200
TZOFFSETTO:+0100
TZNAME:CET
DTSTART:20241027T010000
END:STANDARD
BEGIN:DAYLIGHT
TZOFFSETFROM:+0100
TZOFFSETTO:+0200
TZNAME:CEST
DTSTART:20250330T010000
END:DAYLIGHT
BEGIN:STANDARD
TZOFFSETFROM:+0200
TZOFFSETTO:+0100
TZNAME:CET
DTSTART:20251026T010000
END:STANDARD
BEGIN:DAYLIGHT
TZOFFSETFROM:+0100
TZOFFSETTO:+0200
TZNAME:CEST
DTSTART:20260329T010000
END:DAYLIGHT
BEGIN:STANDARD
TZOFFSETFROM:+0200
TZOFFSETTO:+0100
TZNAME:CET
DTSTART:20261025T010000
END:STANDARD
END:VTIMEZONE
BEGIN:VEVENT
DTSTART;TZID=Europe/Paris:20250108T080000
DTEND;TZID=Europe/Paris:20250110T170000
DTSTAMP:20260424T122401
CREATED:20240313T075323Z
LAST-MODIFIED:20240313T075500Z
UID:227471-1736323200-1736528400@odyssee-tantra.com
SUMMARY:Module 7 « Certification : L’espace thérapeutique du massage tantrique »
DESCRIPTION:Certification « Praticien(ne)/Thérapeute en massage tantrique et psycho-émotionnel » – 9 jours – 65h00\nModule 7 « Certification : L’espace thérapeutique du massage tantrique » – 3 jours\n \nContenu\n\nInitiation aux techniques d’entretien/feed-back. Notions de base en psychothérapies (théorie de la communication\, posture haute/posture basse\, triangle dramatique\, minimiseurs/maximiseurs\, 5 blessures de l’âme…). Notions de base en sexothérapies.\nSavoir définir et présenter son cadre de travail (respect des règles) et la liberté accordée aux client(e)s dans l’espace du cadre.\nEvaluation des acquis et Certification de « Praticien(ne/Thérapeute en Massages Tantriques & Psycho-émotionnels »\, affilié à l’Ecole de Massages Tantriques».\n\nInscriptions et renseignements :  Jean-Michel Picazo : aoreade@yahoo.fr ou au 06.15.43.08.18 \n> Plus d’infos sur le cycle de formation Massage Tantrique \n> Voir toutes les sessions 2023/2024
URL:https://odyssee-tantra.com/actu/module-7-certification-lespace-therapeutique-du-massage-tantrique-janvier-2025/
LOCATION:Centre Odyssée\, Quartier la Galante\, RN7\, Le Canet\, Meyreuil\, 13590\, France
CATEGORIES:Formation Massage Tantrique 2023-2024
ATTACH;FMTTYPE=image/jpeg:https://odyssee-tantra.com/wp-content/uploads/2023/05/massage-tantrique-danse-des-sens.jpg
END:VEVENT
END:VCALENDAR