BEGIN:VCALENDAR
VERSION:2.0
PRODID:-//Odyssée Tantra - ECPv6.15.18//NONSGML v1.0//EN
CALSCALE:GREGORIAN
METHOD:PUBLISH
X-WR-CALNAME:Odyssée Tantra
X-ORIGINAL-URL:https://odyssee-tantra.com
X-WR-CALDESC:Évènements pour Odyssée Tantra
REFRESH-INTERVAL;VALUE=DURATION:PT1H
X-Robots-Tag:noindex
X-PUBLISHED-TTL:PT1H
BEGIN:VTIMEZONE
TZID:Europe/Paris
BEGIN:DAYLIGHT
TZOFFSETFROM:+0100
TZOFFSETTO:+0200
TZNAME:CEST
DTSTART:20240331T010000
END:DAYLIGHT
BEGIN:STANDARD
TZOFFSETFROM:+0200
TZOFFSETTO:+0100
TZNAME:CET
DTSTART:20241027T010000
END:STANDARD
BEGIN:DAYLIGHT
TZOFFSETFROM:+0100
TZOFFSETTO:+0200
TZNAME:CEST
DTSTART:20250330T010000
END:DAYLIGHT
BEGIN:STANDARD
TZOFFSETFROM:+0200
TZOFFSETTO:+0100
TZNAME:CET
DTSTART:20251026T010000
END:STANDARD
BEGIN:DAYLIGHT
TZOFFSETFROM:+0100
TZOFFSETTO:+0200
TZNAME:CEST
DTSTART:20260329T010000
END:DAYLIGHT
BEGIN:STANDARD
TZOFFSETFROM:+0200
TZOFFSETTO:+0100
TZNAME:CET
DTSTART:20261025T010000
END:STANDARD
END:VTIMEZONE
BEGIN:VEVENT
DTSTART;TZID=Europe/Paris:20250918T191500
DTEND;TZID=Europe/Paris:20250918T214500
DTSTAMP:20260422T185958
CREATED:20250829T185136Z
LAST-MODIFIED:20250831T163028Z
UID:228235-1758222900-1758231900@odyssee-tantra.com
SUMMARY:Soirée "Au Coeur de Soi"
DESCRIPTION:Odyssée Tantra vous propose des soirées d’exploration tantrique : un jeudi par mois de 19h15 à 21h45 \nAnimées par un duo\, Jean-Michel et Ophélie\, les soirées « Les couleurs du Tantra » sont des espaces de pratique tantrique\, énergétique et thérapeutique.\nUn programme de pratique adapté au format (soirée ou journée)\, pour prendre le temps de vivre l’expérience tantrique\, et aussi pour satisfaire le plus grand nombre\, débutant comme avancé\, soit pour découvrir ses trésors personnels\, soit pour continuer à cheminer et cultiver ce qui est déjà ouvert.\nDes espaces gardés où sont proposés des exercices de pratique du tantra\, d’exploration de soi et des temps de parole pour s’écouter et échanger. Nous abordons différents thèmes propre à l’esprit tantrique et à ses clefs\, le souffle de vie\, le mouvement vers l’action\, et le son libérateur.\nPour que chaque pas affine notre conscience et développe notre vitalité. \nNombre de participants maximum : autour de 14 à 16 personnes\, pour favoriser le confort et la présence en conscience de chacun(e) durant les pratiques proposées. \nAu-delà de 16 inscrits\, vous serez sur liste d’attente jusqu’au mercredi soir\, veille de l’atelier. \nLieu : Centre Odyssée (nouveaux locaux) au Canet de Meyreuil (10 min d’Aix-en-Provence)\nAdresse : Quartier la Galante\, RN7\, Le Canet – 13590 Meyreuil \nTarif soirée : 35 euros (30 euros pour un engagement sur les 3 soirées du trimestre)\nTarif préférentiel « duo et couple » : 60 euros \nTu trouveras le bulletin d’inscription pour cette première soirée\, dans le lien ci-dessous\, merci de t’inscrire uniquement via ce bulletin en ligne : \nBulletin d’inscription en ligne
URL:https://odyssee-tantra.com/actu/soiree-au-coeur-de-soi-septembre-2025/
LOCATION:Centre Odyssée\, Quartier la Galante\, RN7\, Le Canet\, Meyreuil\, 13590\, France
CATEGORIES:Soirées Tantra
ATTACH;FMTTYPE=image/jpeg:https://odyssee-tantra.com/wp-content/uploads/2025/08/soirees-tantra-aix-en-provence-13.jpg
END:VEVENT
END:VCALENDAR