BEGIN:VCALENDAR
VERSION:2.0
PRODID:-//Odyssée Tantra - ECPv6.15.18//NONSGML v1.0//EN
CALSCALE:GREGORIAN
METHOD:PUBLISH
X-WR-CALNAME:Odyssée Tantra
X-ORIGINAL-URL:https://odyssee-tantra.com
X-WR-CALDESC:Évènements pour Odyssée Tantra
REFRESH-INTERVAL;VALUE=DURATION:PT1H
X-Robots-Tag:noindex
X-PUBLISHED-TTL:PT1H
BEGIN:VTIMEZONE
TZID:Europe/Paris
BEGIN:DAYLIGHT
TZOFFSETFROM:+0100
TZOFFSETTO:+0200
TZNAME:CEST
DTSTART:20260329T010000
END:DAYLIGHT
BEGIN:STANDARD
TZOFFSETFROM:+0200
TZOFFSETTO:+0100
TZNAME:CET
DTSTART:20261025T010000
END:STANDARD
BEGIN:DAYLIGHT
TZOFFSETFROM:+0100
TZOFFSETTO:+0200
TZNAME:CEST
DTSTART:20270328T010000
END:DAYLIGHT
BEGIN:STANDARD
TZOFFSETFROM:+0200
TZOFFSETTO:+0100
TZNAME:CET
DTSTART:20271031T010000
END:STANDARD
BEGIN:DAYLIGHT
TZOFFSETFROM:+0100
TZOFFSETTO:+0200
TZNAME:CEST
DTSTART:20280326T010000
END:DAYLIGHT
BEGIN:STANDARD
TZOFFSETFROM:+0200
TZOFFSETTO:+0100
TZNAME:CET
DTSTART:20281029T010000
END:STANDARD
END:VTIMEZONE
BEGIN:VEVENT
DTSTART;TZID=Europe/Paris:20270601T133000
DTEND;TZID=Europe/Paris:20270604T170000
DTSTAMP:20260421T140238
CREATED:20260415T201145Z
LAST-MODIFIED:20260415T201215Z
UID:228884-1811856600-1812128400@odyssee-tantra.com
SUMMARY:Module 5 « Le Massage Tantrique : vers l’éveil des sens\, la découverte du sens »
DESCRIPTION:Praticien.ne en « Massages Tantrique et Psycho-émotionnel »\nContenu\n\nL’usage des clefs du tantra : le son (le souffle\, la voix\, l’expression de l’émotion…)« Homo-Sapiens » : être sexué et homo-sensuel\, en quête de sexualité sacrée.\nL’approche énergétique et psycho-émotionnel.\nLe rapport au désir et à au plaisir de l’autre. L’empathie et l’ouverture aux émotions :\nConnexion/Libération/Guérison émotionnelle\nLa pratique supervisée – Techniques du massage Tao.\n\nDates\nDu mardi 1e juin (13h30) au vendredi 4 juin 2027 \nInscriptions et renseignements :  Jean-Michel Picazo : aoreade@yahoo.fr ou au 06.15.43.08.18 \n> Plus d’infos sur le cycle de formation Massage Tantrique
URL:https://odyssee-tantra.com/actu/module-5-le-massage-tantrique-vers-leveil-des-sens-la-decouverte-du-sens-juin-2027/
CATEGORIES:Formation Massage Tantrique 2026-2027
ATTACH;FMTTYPE=image/jpeg:https://odyssee-tantra.com/wp-content/uploads/2023/05/formation-massages-tantriques-Module5MT.jpg
END:VEVENT
END:VCALENDAR